BEGIN:VCALENDAR
VERSION:2.0
PRODID:-//ChamberMaster//Event Calendar 2.0//EN
METHOD:PUBLISH
X-PUBLISHED-TTL:P3D
REFRESH-INTERVAL:P3D
CALSCALE:GREGORIAN
BEGIN:VEVENT
DTSTART:20241108T000000Z
DTEND:20241108T023000Z
X-MICROSOFT-CDO-ALLDAYEVENT:FALSE
SUMMARY:Bunco
DESCRIPTION:Let's play Bunco! Join the Life Begins at 50 group & play Bunco at JADes! Bunco is a fun fast paced dice game\, no skill required\, just a desire to have fun! $5 is collected from each player & used as prizes! Games start at 6 so join us early & grab a bite to eat or a beverage. You do not need to be a member of our group to join us\, come check it out!
X-ALT-DESC;FMTTYPE=text/html:Let&#39\;s play Bunco! Join the Life Begins at 50 group &amp\; play Bunco at JADes! Bunco is a fun fast paced dice game\, no skill required\, just a desire to have fun! $5 is collected from each player &amp\; used as prizes! Games start at 6 so join us early &amp\; grab a bite to eat or a beverage. You do not need to be a member of our group to join us\, come check it out!
LOCATION:JADeS 107 N Main
UID:e.1624.38313
SEQUENCE:3
DTSTAMP:20260423T145735Z
URL:http://mitchellchamber.chambermaster.com/events/details/bunco-38313
END:VEVENT

END:VCALENDAR
