BEGIN:VCALENDAR
VERSION:2.0
PRODID:-//ChamberMaster//Event Calendar 2.0//EN
METHOD:PUBLISH
X-PUBLISHED-TTL:P3D
REFRESH-INTERVAL:P3D
CALSCALE:GREGORIAN
BEGIN:VEVENT
DTSTART:20241111T160000Z
DTEND:20241111T190000Z
X-MICROSOFT-CDO-ALLDAYEVENT:FALSE
SUMMARY:Civil War Presentation
DESCRIPTION:Join us for a Civil War presentation by Steve Moran\, an MHS High School History Teacher\, on Monday\, November 11th at the 4-H Grounds. Doors open at 10 AM\, the meal is served at 11 AM and the program starts at noon.
X-ALT-DESC;FMTTYPE=text/html:Join us for a Civil War presentation by Steve Moran\, an MHS High School History Teacher\, on Monday\, November 11th at the 4-H Grounds. Doors open at 10 AM\, the meal is served at 11 AM and the program starts at noon.&nbsp\;
LOCATION:Davison County 4-H Grounds 3200 W. Havens Mitchell\, SD 57301
UID:e.1624.37889
SEQUENCE:3
DTSTAMP:20260424T201822Z
URL:http://mitchellchamber.chambermaster.com/events/details/civil-war-presentation-37889
END:VEVENT

END:VCALENDAR
