BEGIN:VCALENDAR
VERSION:2.0
PRODID:-//ChamberMaster//Event Calendar 2.0//EN
METHOD:PUBLISH
X-PUBLISHED-TTL:P3D
REFRESH-INTERVAL:P3D
CALSCALE:GREGORIAN
BEGIN:VEVENT
DTSTART:20240917T210000Z
DTEND:20240918T000000Z
X-MICROSOFT-CDO-ALLDAYEVENT:FALSE
SUMMARY:Community Access Resource Expo
DESCRIPTION:Come out for this free family-friendly event featuring many different community resources. Interested vendors can sign up for free here.
X-ALT-DESC;FMTTYPE=text/html:Come out for this free family-friendly event featuring many different community resources. Interested vendors can sign up for free <a href="https://form.jotform.com/241345256289159">here</a>.&nbsp\;
LOCATION:The Corn Palace 604 N. Main St. Mitchell\, SD 57301
UID:e.1624.37382
SEQUENCE:3
DTSTAMP:20260425T030903Z
URL:http://mitchellchamber.chambermaster.com/events/details/community-access-resource-expo-37382
END:VEVENT

END:VCALENDAR
