BEGIN:VCALENDAR
VERSION:2.0
PRODID:-//ChamberMaster//Event Calendar 2.0//EN
METHOD:PUBLISH
X-PUBLISHED-TTL:P3D
REFRESH-INTERVAL:P3D
CALSCALE:GREGORIAN
BEGIN:VEVENT
DTSTART:20241116T150000Z
DTEND:20241116T190000Z
X-MICROSOFT-CDO-ALLDAYEVENT:FALSE
SUMMARY:Cranksgiving
DESCRIPTION:Join Ron's Bike Shop\, Anytime Fitness and MAC Area Events for the 6th Annual Cranksgiving Bike Ride and Food Drive in Mitchell!\nWhen: November 16\, 2024! Check-in will start at 9 am with riders leaving at 10 am and ending at 1 pm.\n\nWho: Cyclists looking to give back and have fun while doing it.\n\nWhere: Meet at Ron's Bike Shop 723 S Sanborn\n\nWhat you need: Bike\, bag\, $20 or more (however much you feel like donating to two great organizations)\, trailer or anything to carry items on your bike!\n\nWhat is Cranksgiving? Cranksgiving involves collecting food items for local charities! Our 5th Annual Cranksgiving with benefit the Weekend Snack Pack and Caring Closet! These food items will help provide a warm meal for individuals and families in need during the winter months!\n\nYour part will be to collect these items while riding your bike from grocery store to grocery store. You will pick up two items at each location. before heading to the next. You will need at least 5 items. You will need to keep your receipt that shows only two items per grocery store.
X-ALT-DESC;FMTTYPE=text/html:Join Ron&rsquo\;s Bike Shop\, Anytime Fitness and MAC Area Events for the 6th Annual Cranksgiving Bike Ride and Food Drive in Mitchell!\n<div>When: November 16\, 2024! Check-in will start at 9 am with riders leaving at 10 am and ending at 1 pm.</div>\n\n<div>Who: Cyclists looking to give back and have fun while doing it.</div>\n\n<div>Where: Meet at Ron&rsquo\;s Bike Shop 723 S Sanborn</div>\n\n<div>What you need: Bike\, bag\, $20 or more (however much you feel like donating to two great organizations)\, trailer or anything to carry items on your bike!</div>\n\n<div>What is Cranksgiving? Cranksgiving involves collecting food items for local charities! Our 5th Annual Cranksgiving with benefit the Weekend Snack Pack and Caring Closet! These food items will help provide a warm meal for individuals and families in need during the winter months!</div>\n\n<div>Your part will be to collect these items while riding your bike from grocery store to grocery store. You will pick up two items at each location. before heading to the next. You will need at least 5 items. You will need to keep your receipt that shows only two items per grocery store.</div>\n
LOCATION:Ron's Bike Shop 723 S Sanborn Mitchell\, SD 57301
UID:e.1624.38492
SEQUENCE:3
DTSTAMP:20260423T165134Z
URL:http://mitchellchamber.chambermaster.com/events/details/cranksgiving-38492
END:VEVENT

END:VCALENDAR
