BEGIN:VCALENDAR
VERSION:2.0
PRODID:-//ChamberMaster//Event Calendar 2.0//EN
METHOD:PUBLISH
X-PUBLISHED-TTL:P3D
REFRESH-INTERVAL:P3D
CALSCALE:GREGORIAN
BEGIN:VEVENT
DTSTART:20240621T153000Z
DTEND:20240621T200000Z
X-MICROSOFT-CDO-ALLDAYEVENT:FALSE
SUMMARY:Creative Makerspace at Mitchell Public Library
DESCRIPTION:Come create with coding toys\, art supplies\, cardboard boxes and more. All ages welcome. Please register at the library or call 605-995-8480.
X-ALT-DESC;FMTTYPE=text/html:<div>Come create with coding toys\, art supplies\, cardboard boxes and more. All ages welcome. Please register at the library or call 605-995-8480.</div>\n
LOCATION:Mitchell Public Library 221 N. Duff St. Mitchell\, SD 57301
UID:e.1624.36736
SEQUENCE:3
DTSTAMP:20260425T201132Z
URL:http://mitchellchamber.chambermaster.com/events/details/creative-makerspace-at-mitchell-public-library-36736
END:VEVENT

END:VCALENDAR
