BEGIN:VCALENDAR
VERSION:2.0
PRODID:-//ChamberMaster//Event Calendar 2.0//EN
METHOD:PUBLISH
X-PUBLISHED-TTL:P3D
REFRESH-INTERVAL:P3D
CALSCALE:GREGORIAN
BEGIN:VEVENT
DTSTART:20241006T210000Z
DTEND:20241006T230000Z
X-MICROSOFT-CDO-ALLDAYEVENT:FALSE
SUMMARY:DWU Fall Concert
DESCRIPTION:Join the DWU community for a performance by the Ron and Sheilah Gates Department of Music\, featuring: Wesleyan Treble Choir\, The Highlanders\, Wesleyan Bells\, DWU Community Choir.\n\n\n\n\n\nThis event will be livestreamed on www.dwu.edu/live.
X-ALT-DESC;FMTTYPE=text/html:<p font-size:="" gandhi="">Join the DWU community for a performance by the Ron and Sheilah Gates Department of Music\, featuring: Wesleyan Treble Choir\, The Highlanders\, Wesleyan Bells\, DWU Community Choir.</p>\n\n<div font-size:="" gandhi="" title="Page 1">\n<div>\n<div>\n<div>\n<p>This event will be livestreamed on&nbsp\;<a href="https://www.dwu.edu/live" target="_blank">www.dwu.edu/live</a>.</p>\n</div>\n</div>\n</div>\n</div>\n
LOCATION:DWU Sherman Center 1200 W University Ave Mitchell\, SD 57301
UID:e.1624.37536
SEQUENCE:3
DTSTAMP:20260425T034257Z
URL:http://mitchellchamber.chambermaster.com/events/details/dwu-fall-concert-37536
END:VEVENT

END:VCALENDAR
