BEGIN:VCALENDAR
VERSION:2.0
PRODID:-//ChamberMaster//Event Calendar 2.0//EN
METHOD:PUBLISH
X-PUBLISHED-TTL:P3D
REFRESH-INTERVAL:P3D
CALSCALE:GREGORIAN
BEGIN:VEVENT
DTSTART:20260510T180000Z
DTEND:20260510T210000Z
X-MICROSOFT-CDO-ALLDAYEVENT:FALSE
SUMMARY:DWU Graduation
DESCRIPTION:Dakota Wesleyan University Commencement is Sunday\, May 10th at 1:30 PM at the Corn Palace. Commencement will include an academic hooding ceremony. \n\n	The ceremony will also be streamed live at www.dwu.edu/live.
X-ALT-DESC;FMTTYPE=text/html:Dakota Wesleyan University Commencement is Sunday\, May 10th at 1:30 PM at the Corn Palace. Commencement will include an academic hooding ceremony.&nbsp\;\n<ul style="margin: 0px 0px 30px\; padding: 0px 0px 0px 20px\; border: 0px\; outline: 0px\; list-style-position: initial\; list-style-image: initial\; box-sizing: border-box\; color: rgb(2\, 42\, 82)\; font-family: &quot\;Gandhi Serif&quot\;\, serif\; font-size: 18px\; background-color: rgb(255\, 255\, 255)\;">\n	<li style="margin: 0px 0px 10px\; padding: 0px\; border: 0px\; outline: 0px\; box-sizing: border-box\;">The ceremony will also be streamed live at&nbsp\;<a href="https://www.dwu.edu/live" style="margin: 0px\; padding: 0px\; border: 0px\; outline: 0px\; cursor: pointer\; color: rgb(0\, 76\, 151)\; text-decoration-line: initial\; text-decoration-color: rgb(0\, 76\, 151)\; transition: 0.2s cubic-bezier(0.25\, 0.46\, 0.45\, 0.94)\; box-sizing: border-box\;" target="_blank">www.dwu.edu/live</a>.</li>\n</ul>\n
LOCATION:The World's Only Corn Palace
UID:e.1624.42314
SEQUENCE:3
DTSTAMP:20260423T024646Z
URL:http://mitchellchamber.chambermaster.com/events/details/dwu-graduation-42314
END:VEVENT

END:VCALENDAR
