BEGIN:VCALENDAR
VERSION:2.0
PRODID:-//ChamberMaster//Event Calendar 2.0//EN
METHOD:PUBLISH
X-PUBLISHED-TTL:P3D
REFRESH-INTERVAL:P3D
CALSCALE:GREGORIAN
BEGIN:VEVENT
DTSTART:20241019T180000Z
DTEND:20241019T210000Z
X-MICROSOFT-CDO-ALLDAYEVENT:FALSE
SUMMARY:Fall Fest
DESCRIPTION:Fall Fest Celebration hosted by Ethan FFA at Farm Life Creamery in Ethan. Join us for Pumpkin Painting\, Pumpkin Smashing\, Mini Golf\, Face Painting\, Bobbing for Apples\, Inflatable fun\, Walking Taco\, Bake Sale and Cow Patty Bingo and more! Proceeds benefit Ethan FFA.
X-ALT-DESC;FMTTYPE=text/html:Fall Fest Celebration hosted by Ethan FFA at Farm Life Creamery in Ethan. Join us for Pumpkin Painting\, Pumpkin Smashing\, Mini Golf\, Face Painting\, Bobbing for Apples\, Inflatable fun\, Walking Taco\, Bake Sale and Cow Patty Bingo and more! Proceeds benefit Ethan FFA.
LOCATION:Farm Life Creamery\, Ethan SD
UID:e.1624.37883
SEQUENCE:3
DTSTAMP:20260424T042948Z
URL:http://mitchellchamber.chambermaster.com/events/details/fall-fest-37883
END:VEVENT

END:VCALENDAR
