BEGIN:VCALENDAR
VERSION:2.0
PRODID:-//ChamberMaster//Event Calendar 2.0//EN
METHOD:PUBLISH
X-PUBLISHED-TTL:P3D
REFRESH-INTERVAL:P3D
CALSCALE:GREGORIAN
BEGIN:VEVENT
DTSTART:20241027T193000Z
DTEND:20241027T220000Z
X-MICROSOFT-CDO-ALLDAYEVENT:FALSE
SUMMARY:Halloween Dance
DESCRIPTION:JVCC Halloween Dance - Sunday\, October 27 @ 3-5 pm\; Doors open 2:30 pm - Wear your Halloween costumes and/or fall colors! - Roy King & The Rusty Buckets will provide the music! JVCC members $8 Guests $10
X-ALT-DESC;FMTTYPE=text/html:JVCC Halloween Dance - Sunday\, October 27 @ 3-5 pm\; Doors open 2:30 pm - Wear your Halloween costumes and/or fall colors! - Roy King &amp\; The Rusty Buckets will provide the music! JVCC members $8 Guests $10
LOCATION:James Valley Community Center 300 W 1st Ave\, Mitchell
UID:e.1624.37493
SEQUENCE:3
DTSTAMP:20260424T080634Z
URL:http://mitchellchamber.chambermaster.com/events/details/halloween-dance-37493
END:VEVENT

END:VCALENDAR
