BEGIN:VCALENDAR
VERSION:2.0
PRODID:-//ChamberMaster//Event Calendar 2.0//EN
METHOD:PUBLISH
X-PUBLISHED-TTL:P3D
REFRESH-INTERVAL:P3D
CALSCALE:GREGORIAN
BEGIN:VEVENT
DTSTART:20241116T180000Z
DTEND:20241117T010000Z
X-MICROSOFT-CDO-ALLDAYEVENT:FALSE
SUMMARY:Holiday Stencil Board
DESCRIPTION:Sign up to make your own Christmas wall decor.  Choose between believe stocking hanging sign or horse Christmas tree sign\, using stencils and paint to finish your sign.
X-ALT-DESC;FMTTYPE=text/html:Sign up to make your own Christmas wall decor.&nbsp\; Choose between believe stocking hanging sign or horse Christmas tree sign\, using stencils and paint to finish your sign.
LOCATION:Your Shop at 304 N Main St\, Mitchell\, SD
UID:e.1624.37662
SEQUENCE:3
DTSTAMP:20260425T230740Z
URL:http://mitchellchamber.chambermaster.com/events/details/holiday-stencil-board-37662
END:VEVENT

END:VCALENDAR
