BEGIN:VCALENDAR
VERSION:2.0
PRODID:-//ChamberMaster//Event Calendar 2.0//EN
METHOD:PUBLISH
X-PUBLISHED-TTL:P3D
REFRESH-INTERVAL:P3D
CALSCALE:GREGORIAN
BEGIN:VEVENT
DTSTART:20240905T170000Z
DTEND:20240905T180000Z
X-MICROSOFT-CDO-ALLDAYEVENT:FALSE
SUMMARY:Lunch & Learn: SME 101
DESCRIPTION:Please join us for SME (Sales and Marketing Executives) 101 - an introduction for business leaders across the state to learn about the benefits and value that SME brings to sales and marketing professionals. Lunch is included. Please RSVP by September 3rd to McKayla at 605-996-1102.
X-ALT-DESC;FMTTYPE=text/html:Please join us for SME (Sales and Marketing Executives) 101 - an introduction for business leaders across the state to learn about the benefits and value that SME brings to sales and marketing professionals. Lunch is included. Please RSVP by September 3rd to McKayla at 605-996-1102.
LOCATION:Plain Commerce Bank Community Room 900 S. Burr St.
UID:e.1624.37475
SEQUENCE:3
DTSTAMP:20260425T230740Z
URL:http://mitchellchamber.chambermaster.com/events/details/lunch-learn-sme-101-37475
END:VEVENT

END:VCALENDAR
