BEGIN:VCALENDAR
VERSION:2.0
PRODID:-//ChamberMaster//Event Calendar 2.0//EN
METHOD:PUBLISH
X-PUBLISHED-TTL:P3D
REFRESH-INTERVAL:P3D
CALSCALE:GREGORIAN
BEGIN:VEVENT
DTSTART:20241216T220000Z
DTEND:20241216T233000Z
X-MICROSOFT-CDO-ALLDAYEVENT:FALSE
SUMMARY:Makerspace Monday - Ornament Making at Mitchell Public Library
DESCRIPTION:Kids! Families! Everyone! Come to the library on Monday\, Dec. 16 to make Christmas ornaments from 4:00-5:30pm. We will provide ideas and lots of art supplies. Bring your friends! Everyone is welcome. (Children should be accompanied by parent or caregiver).
X-ALT-DESC;FMTTYPE=text/html:<span style="color:#333333\;"><span style="font-family:source sans pro\,sans-serif\;"><span style="font-size:11.5pt\;">Kids! Families! Everyone! Come to the library on Monday\, Dec. 16 to make Christmas ornaments from 4:00-5:30pm. We will provide ideas and lots of art supplies. Bring your friends! Everyone is welcome. (Children should be accompanied by parent or caregiver).</span></span></span>
LOCATION:Mitchell Public Library 221 N. Duff
UID:e.1624.39113
SEQUENCE:3
DTSTAMP:20260423T183948Z
URL:http://mitchellchamber.chambermaster.com/events/details/makerspace-monday-ornament-making-at-mitchell-public-library-39113
END:VEVENT

END:VCALENDAR
