BEGIN:VCALENDAR
VERSION:2.0
PRODID:-//ChamberMaster//Event Calendar 2.0//EN
METHOD:PUBLISH
X-PUBLISHED-TTL:P3D
REFRESH-INTERVAL:P3D
CALSCALE:GREGORIAN
BEGIN:VEVENT
DTSTART:20240612T150000Z
DTEND:20240612T160000Z
X-MICROSOFT-CDO-ALLDAYEVENT:FALSE
SUMMARY:Meet an Alpaca (Library Summer Reading Program Event)
DESCRIPTION:Pet an alpaca on Wed. June 12 at 10am & 6:30pm at the Corn Palace Plaza. Owner Christi Piersen will give a short presentation\, followed by Q&A & an opportunity to touch the alpaca. Everyone is welcome. (This event is sponsored by the Children's Summer Reading Program\, Mitchell Public Library.)
X-ALT-DESC;FMTTYPE=text/html:Pet an alpaca on Wed. June 12 at 10am &amp\; 6:30pm at the Corn Palace Plaza. Owner Christi Piersen will give a short presentation\, followed by Q&amp\;A &amp\; an opportunity to touch the alpaca. Everyone is welcome. (This event is sponsored by the Children&#39\;s Summer Reading Program\, Mitchell Public Library.)
LOCATION:Corn Palace Plaza
UID:e.1624.36661
SEQUENCE:3
DTSTAMP:20260426T005102Z
URL:http://mitchellchamber.chambermaster.com/events/details/meet-an-alpaca-library-summer-reading-program-event-36661
END:VEVENT

END:VCALENDAR
