BEGIN:VCALENDAR
VERSION:2.0
PRODID:-//ChamberMaster//Event Calendar 2.0//EN
METHOD:PUBLISH
X-PUBLISHED-TTL:P3D
REFRESH-INTERVAL:P3D
CALSCALE:GREGORIAN
BEGIN:VEVENT
DTSTART;VALUE=DATE:20240801
DTEND;VALUE=DATE:20240901
TRANSP:TRANSPARENT
X-MICROSOFT-CDO-ALLDAYEVENT:TRUE
SUMMARY:Mitchell's Beverage Bash 2024
DESCRIPTION:Come and join the exciting showdown of Mitchell's 1st Beverage Bash! Prepare for a thrilling competition where each business will showcase their distinctive creations - Signature Cocktail\, Mocktail\, and/or Handcrafted Drink.\n\nEvery contender can flex their mixology muscles with one alcoholic and/or one non-alcoholic creation up for judgment.\n\nWinner announced at 1st Friday on Main on Sept 6th at 6 PM!\n\nYou have the power! Cast your vote with the FREE Everything Mitchell App starting on August 1st and ending on August 31st!\n\nVoting Link: *Will be here on August 1st*\n\nWant to be apart of the competition?!\n\nMMSB Members = Free Entry\n\nNon-Members = $25\n\nContact us today MMSEvents@MitchellSD.com or call 605.990.4500 to learn more!\n\nCurrent Mixologist Line Up!\n\n- Crazy About Cupcakes\n\n- Dr. Lucky's Bar & Grill\n\n- Main Street Mercantile\n\n- Michelle's Mad Batter\n\n- Scoreboard Pub & Grille\n\n- The Depot Pub & Grill\n\n- Waterin' Hole - Mitchell
X-ALT-DESC;FMTTYPE=text/html:<div>Come and join the exciting showdown of Mitchell&#39\;s 1st Beverage Bash! Prepare for a thrilling competition where each business will showcase their distinctive creations - Signature Cocktail\, Mocktail\, and/or Handcrafted Drink.</div>\n\n<div>Every contender can flex their mixology muscles with one alcoholic and/or one non-alcoholic creation up for judgment.<br />\nWinner announced at 1st Friday on Main on Sept 6th at 6 PM!</div>\n\n<div>You have the power! Cast your vote with the FREE Everything Mitchell App starting on August 1st and ending on August 31st!<br />\nVoting Link: *Will be here on August 1st*</div>\n\n<div>Want to be apart of the competition?!<br />\nMMSB Members = Free Entry<br />\nNon-Members = $25</div>\n\n<div>Contact us today MMSEvents@MitchellSD.com or call 605.990.4500 to learn more!</div>\n\n<div>Current Mixologist Line Up!</div>\n\n<div>- Crazy About Cupcakes<br />\n- Dr. Lucky&#39\;s Bar &amp\; Grill<br />\n- Main Street Mercantile<br />\n- Michelle&#39\;s Mad Batter<br />\n- Scoreboard Pub &amp\; Grille<br />\n- The Depot Pub &amp\; Grill<br />\n- Waterin&#39\; Hole - Mitchell</div>\n
LOCATION:Participating Businesses
UID:e.1624.37419
SEQUENCE:3
DTSTAMP:20260426T004014Z
URL:http://mitchellchamber.chambermaster.com/events/details/mitchell-s-beverage-bash-2024-37419
END:VEVENT

END:VCALENDAR
