BEGIN:VCALENDAR
VERSION:2.0
PRODID:-//ChamberMaster//Event Calendar 2.0//EN
METHOD:PUBLISH
X-PUBLISHED-TTL:P3D
REFRESH-INTERVAL:P3D
CALSCALE:GREGORIAN
BEGIN:VEVENT
DTSTART:20240918T160000Z
DTEND:20240918T180000Z
X-MICROSOFT-CDO-ALLDAYEVENT:FALSE
SUMMARY:Mitchell Virtual Hiring Event
DESCRIPTION:Job seekers and employers: Connect online to explore job openings\, gather information\, and interact in real-time through text chat and video interviews. For more information or to register\, click here. \n\n\n\nHosted by the DLR Mitchell Job Service and the Mitchell Area Development Corporation.
X-ALT-DESC;FMTTYPE=text/html:Job seekers and employers: Connect online to explore job openings\, gather information\, and interact in real-time through text chat and video interviews. For more information or to register\, click <a href="https://dlr.sd.gov/localoffices/hiring_events/virtual.aspx">here</a>.&nbsp\;<br />\n<br />\nHosted by the DLR Mitchell Job Service and the Mitchell Area Development Corporation.
LOCATION:Virtual
UID:e.1624.37509
SEQUENCE:3
DTSTAMP:20260425T120018Z
URL:http://mitchellchamber.chambermaster.com/events/details/mitchell-virtual-hiring-event-37509
END:VEVENT

END:VCALENDAR
