BEGIN:VCALENDAR
VERSION:2.0
PRODID:-//ChamberMaster//Event Calendar 2.0//EN
METHOD:PUBLISH
X-PUBLISHED-TTL:P3D
REFRESH-INTERVAL:P3D
CALSCALE:GREGORIAN
BEGIN:VEVENT
DTSTART:20240915T000000Z
DTEND:20240915T030000Z
X-MICROSOFT-CDO-ALLDAYEVENT:FALSE
SUMMARY:Open Mic Night
DESCRIPTION:Live music\, a cash bar\, and Fat Kid Filly's food truck. Want to perform? Call or text Craig at 605-770-2516.
X-ALT-DESC;FMTTYPE=text/html:Live music\, a cash bar\, and Fat Kid Filly&#39\;s food truck. Want to perform? Call or text Craig at 605-770-2516.
LOCATION:Vern Eide GM 219 E. 1st Ave Mitchell\, SD 57301
UID:e.1624.37498
SEQUENCE:3
DTSTAMP:20260424T100651Z
URL:http://mitchellchamber.chambermaster.com/events/details/open-mic-night-37498
END:VEVENT

END:VCALENDAR
