BEGIN:VCALENDAR
VERSION:2.0
PRODID:-//ChamberMaster//Event Calendar 2.0//EN
METHOD:PUBLISH
X-PUBLISHED-TTL:P3D
REFRESH-INTERVAL:P3D
CALSCALE:GREGORIAN
BEGIN:VEVENT
DTSTART:20241003T000000Z
DTEND:20241003T010000Z
X-MICROSOFT-CDO-ALLDAYEVENT:FALSE
SUMMARY:Praise Service
DESCRIPTION:Resurrection Lutheran Church is hosting a Praise Service. Cameron Gauger will be leading the service. Come sing some praise songs with us. All are welcome!
X-ALT-DESC;FMTTYPE=text/html:Resurrection Lutheran Church is hosting a Praise Service. Cameron Gauger will be leading the service. Come sing some praise songs with us. All are welcome!
LOCATION:Resurrection Lutheran Church
UID:e.1624.37548
SEQUENCE:3
DTSTAMP:20260424T013724Z
URL:http://mitchellchamber.chambermaster.com/events/details/praise-service-37548
END:VEVENT

END:VCALENDAR
