BEGIN:VCALENDAR
VERSION:2.0
PRODID:-//ChamberMaster//Event Calendar 2.0//EN
METHOD:PUBLISH
X-PUBLISHED-TTL:P3D
REFRESH-INTERVAL:P3D
CALSCALE:GREGORIAN
BEGIN:VEVENT
DTSTART:20240818T153000Z
DTEND:20240818T170000Z
X-MICROSOFT-CDO-ALLDAYEVENT:FALSE
SUMMARY:Tour de Corn
DESCRIPTION:This is a great opportunity to try out the single track route under the guidance of Palace City Pedaler volunteers.\n\n\n\n10:30 am: Guided Singletrack Mountain Bike Ride. Helmets required. FREE!
X-ALT-DESC;FMTTYPE=text/html:<div data-block-type="2" id="block-606de3d886ab2017770a55be">\n<div>\n<div>\n<p><span style="color: rgb(0\, 76\, 80)\; font-family: neue-haas-grotesk-text\; font-size: 15.4px\; letter-spacing: 0.308px\; white-space-collapse: preserve\;">This is a great opportunity to try out the single track route under the guidance of Palace City Pedaler volunteers.<br />\n<br />\n10:30 am: Guided Singletrack Mountain Bike Ride.&nbsp\;</span><span style="color: rgb(0\, 76\, 80)\; font-family: neue-haas-grotesk-text\; font-size: 15.4px\; letter-spacing: 0.308px\; white-space-collapse: preserve\; background-color: rgb(255\, 255\, 255)\;">Helmets required.</span><span style="color: rgb(0\, 76\, 80)\; font-family: neue-haas-grotesk-text\; font-size: 15.4px\; letter-spacing: 0.308px\; white-space-collapse: preserve\;"> FREE! </span></p>\n</div>\n</div>\n</div>\n
LOCATION:Lake Mitchell
UID:e.1624.37364
SEQUENCE:3
DTSTAMP:20260425T185336Z
URL:http://mitchellchamber.chambermaster.com/events/details/tour-de-corn-37364
END:VEVENT

END:VCALENDAR
