BEGIN:VCALENDAR
VERSION:2.0
PRODID:-//ChamberMaster//Event Calendar 2.0//EN
METHOD:PUBLISH
X-PUBLISHED-TTL:P3D
REFRESH-INTERVAL:P3D
CALSCALE:GREGORIAN
BEGIN:VEVENT
DTSTART:20240816T223000Z
DTEND:20240817T030000Z
X-MICROSOFT-CDO-ALLDAYEVENT:FALSE
SUMMARY:Tour de Corn Kickoff
DESCRIPTION:This A-Maize-Ing bike event has become a signature summer highlight in the Mitchell area\, hosted by Palace City Pedalers in conjunction with a long list of sponsors. Riders can choose from 15\, 35\, 62 and 100 mile routes\, all ending at the picturesque Lake Mitchell Day Camp for our popular BBQ lunch festival. With sag stations along the way and friendly local spectators and support\, the Tour de Corn brings in hundreds of cyclers from several states. Register early to ensure you get a t-shirt and a goody bag!\n\n\n\n\nThe fun happens at Kiwanis Park where we will have a Pump Track contest for all ages along with a food truck meal and a moonlight glow ride!\n\n\n\n\n\n\n\n\n\n\n	\n	5:00 - 7:30 pm: Registration and SWAG pickup.\n	\n	\n	5:30 pm: Pump Track Contest. FREE! Categories for all ages. Parents must come and sign liability waiver for any child participating. Helmets required.\n	\n	\n	5:30 - 8:00 pm: Food Truck meal Included with TdC fee. Meals for non-riding family members available for purchase.\n	\n	\n	8:00 pm: Glow Ride/Moonlight Ramble around Lake Mitchell. (State law requires both front and rear lights when riding a bike at night. Helmets required.) Minors MUST be accompanied by their parents.
X-ALT-DESC;FMTTYPE=text/html:This A-Maize-Ing bike event has become a signature summer highlight in the Mitchell area\, hosted by Palace City Pedalers in conjunction with a long list of sponsors. Riders can choose from 15\, 35\, 62 and 100 mile routes\, all ending at the picturesque Lake Mitchell Day Camp for our popular BBQ lunch festival. With sag stations along the way and friendly local spectators and support\, the Tour de Corn brings in hundreds of cyclers from several states. Register early to ensure you get a t-shirt and a goody bag!\n<div class="col sqs-col-6 span-6" style="float: left\; width: 617px\; color: rgb(0\, 76\, 80)\; font-family: neue-haas-grotesk-text\; font-size: 15.4px\; letter-spacing: 0.308px\;">\n<div class="sqs-block html-block sqs-block-html" data-block-type="2" data-border-radii="{&quot\;topLeft&quot\;:{&quot\;unit&quot\;:&quot\;px&quot\;\,&quot\;value&quot\;:0.0}\,&quot\;topRight&quot\;:{&quot\;unit&quot\;:&quot\;px&quot\;\,&quot\;value&quot\;:0.0}\,&quot\;bottomLeft&quot\;:{&quot\;unit&quot\;:&quot\;px&quot\;\,&quot\;value&quot\;:0.0}\,&quot\;bottomRight&quot\;:{&quot\;unit&quot\;:&quot\;px&quot\;\,&quot\;value&quot\;:0.0}}" id="block-606de59e7a30a00b9d538068" style="position: relative\; height: auto\; padding: 0px 17px\; clear: none\; border-color: var(--tweak-text-block-stroke-color)\;">\n<div class="sqs-block-content" style="outline: none\;">\n<div class="sqs-html-content" style="outline: none\; overflow-wrap: break-word\; margin-top: 0px\; margin-bottom: 0px\;">\n<p style="margin: 1rem 0px 0px\; line-height: var(--body-font-line-height)\; overflow-wrap: break-word\; white-space-collapse: preserve\;">The fun happens at Kiwanis Park where we will have a Pump Track contest for all ages along with a food truck meal and a moonlight glow ride!</p>\n</div>\n</div>\n</div>\n</div>\n\n<div class="col sqs-col-6 span-6" style="float: left\; width: 617px\; padding-right: 0px\; color: rgb(0\, 76\, 80)\; font-family: neue-haas-grotesk-text\; font-size: 15.4px\; letter-spacing: 0.308px\;">\n<div class="sqs-block html-block sqs-block-html" data-block-type="2" data-border-radii="{&quot\;topLeft&quot\;:{&quot\;unit&quot\;:&quot\;px&quot\;\,&quot\;value&quot\;:0.0}\,&quot\;topRight&quot\;:{&quot\;unit&quot\;:&quot\;px&quot\;\,&quot\;value&quot\;:0.0}\,&quot\;bottomLeft&quot\;:{&quot\;unit&quot\;:&quot\;px&quot\;\,&quot\;value&quot\;:0.0}\,&quot\;bottomRight&quot\;:{&quot\;unit&quot\;:&quot\;px&quot\;\,&quot\;value&quot\;:0.0}}" id="block-yui_3_17_2_1_1617814855872_4452" style="position: relative\; height: auto\; padding: 0px 17px\; clear: none\; border-color: var(--tweak-text-block-stroke-color)\;">\n<div class="sqs-block-content" style="outline: none\;">\n<div class="sqs-html-content" style="outline: none\; overflow-wrap: break-word\; margin-top: 0px\; margin-bottom: 0px\;">\n<ul data-rte-list="default" style="overflow-wrap: break-word\; margin-top: 0px\; margin-bottom: 0px\;">\n	<li style="list-style-type: none\; overflow-wrap: break-word\;">\n	<p style="margin: 0.5em 0px\; line-height: var(--body-font-line-height)\; overflow-wrap: break-word\; white-space-collapse: preserve\;">5:00 - 7:30 pm: Registration and SWAG pickup.</p>\n	</li>\n	<li style="list-style-type: none\; overflow-wrap: break-word\;">\n	<p style="margin: 0.5em 0px\; line-height: var(--body-font-line-height)\; overflow-wrap: break-word\; white-space-collapse: preserve\;">5:30 pm: Pump Track Contest. FREE! Categories for all ages. Parents must come and sign liability waiver for any child participating. Helmets required.</p>\n	</li>\n	<li style="list-style-type: none\; overflow-wrap: break-word\;">\n	<p style="margin: 0.5em 0px\; line-height: var(--body-font-line-height)\; overflow-wrap: break-word\; white-space-collapse: preserve\;">5:30 - 8:00 pm: Food Truck meal Included with TdC fee. Meals for non-riding family members available for purchase.</p>\n	</li>\n	<li style="list-style-type: none\; overflow-wrap: break-word\;">\n	<p style="margin: 0.5em 0px\; line-height: var(--body-font-line-height)\; overflow-wrap: break-word\; white-space-collapse: preserve\;">8:00 pm: Glow Ride/Moonlight Ramble around Lake Mitchell. (State law requires both front and rear lights when riding a bike at night. Helmets required.) Minors MUST be accompanied by their parents.</p>\n	</li>\n</ul>\n</div>\n</div>\n</div>\n</div>\n
LOCATION:Kiwanis Park Pump Track Indian Village Rd. Mitchell\, SD 57301
UID:e.1624.37362
SEQUENCE:3
DTSTAMP:20260425T151524Z
URL:http://mitchellchamber.chambermaster.com/events/details/tour-de-corn-kickoff-37362
END:VEVENT

END:VCALENDAR
